BEGIN:VCALENDAR
VERSION:2.0
PRODID:-//Pluriel//Congres Cordoue 2026//FR
CALSCALE:GREGORIAN
METHOD:PUBLISH
X-WR-CALNAME:مؤتمر Pluriel قرطبة 2026
X-WR-TIMEZONE:Europe/Madrid
REFRESH-INTERVAL;VALUE=DURATION:PT12H
BEGIN:VTIMEZONE
TZID:Europe/Madrid
BEGIN:STANDARD
DTSTART:19701025T030000
RRULE:FREQ=YEARLY;BYDAY=-1SU;BYMONTH=10
TZOFFSETFROM:+0200
TZOFFSETTO:+0100
END:STANDARD
BEGIN:DAYLIGHT
DTSTART:19700329T020000
RRULE:FREQ=YEARLY;BYDAY=-1SU;BYMONTH=3
TZOFFSETFROM:+0100
TZOFFSETTO:+0200
END:DAYLIGHT
END:VTIMEZONE
BEGIN:VEVENT
UID:evt-0-ar@pluriel-congres.org
DTSTAMP:20260208T180000Z
DTSTART;TZID=Europe/Madrid:20260210T190000
DTEND;TZID=Europe/Madrid:20260210T213000
SUMMARY:الأمسية الافتتاحية
LOCATION:أبرشية قرطبة – Calle Torrijos\, 12
LAST-MODIFIED:20260208T180000Z
SEQUENCE:3
STATUS:CONFIRMED
END:VEVENT
BEGIN:VEVENT
UID:evt-1-ar@pluriel-congres.org
DTSTAMP:20260208T180000Z
DTSTART;TZID=Europe/Madrid:20260211T090000
DTEND;TZID=Europe/Madrid:20260211T093000
SUMMARY:الاستقبال
LOCATION:أبرشية قرطبة – Calle Torrijos\, 12
LAST-MODIFIED:20260208T180000Z
SEQUENCE:3
STATUS:CONFIRMED
END:VEVENT
BEGIN:VEVENT
UID:evt-2-ar@pluriel-congres.org
DTSTAMP:20260208T180000Z
DTSTART;TZID=Europe/Madrid:20260211T093000
DTEND;TZID=Europe/Madrid:20260211T100000
SUMMARY:إشكالية المؤتمر
LOCATION:
DESCRIPTION:Emmanuel Pisani
LAST-MODIFIED:20260208T180000Z
SEQUENCE:3
STATUS:CONFIRMED
END:VEVENT
BEGIN:VEVENT
UID:evt-3-ar@pluriel-congres.org
DTSTAMP:20260208T180000Z
DTSTART;TZID=Europe/Madrid:20260211T100000
DTEND;TZID=Europe/Madrid:20260211T114500
SUMMARY:الجلسة 1
LOCATION:
LAST-MODIFIED:20260208T180000Z
SEQUENCE:3
STATUS:CONFIRMED
END:VEVENT
BEGIN:VEVENT
UID:evt-4-ar@pluriel-congres.org
DTSTAMP:20260208T180000Z
DTSTART;TZID=Europe/Madrid:20260211T114500
DTEND;TZID=Europe/Madrid:20260211T121500
SUMMARY:استراحة
LOCATION:
LAST-MODIFIED:20260208T180000Z
SEQUENCE:3
STATUS:CONFIRMED
END:VEVENT
BEGIN:VEVENT
UID:evt-5-ar@pluriel-congres.org
DTSTAMP:20260208T180000Z
DTSTART;TZID=Europe/Madrid:20260211T121500
DTEND;TZID=Europe/Madrid:20260211T140000
SUMMARY:الجلسة 2
LOCATION:قاعة 1
LAST-MODIFIED:20260208T180000Z
SEQUENCE:3
STATUS:CONFIRMED
END:VEVENT
BEGIN:VEVENT
UID:evt-6-ar@pluriel-congres.org
DTSTAMP:20260208T180000Z
DTSTART;TZID=Europe/Madrid:20260211T121500
DTEND;TZID=Europe/Madrid:20260211T140000
SUMMARY:الجلسة 2
LOCATION:قاعة 2
LAST-MODIFIED:20260208T180000Z
SEQUENCE:3
STATUS:CONFIRMED
END:VEVENT
BEGIN:VEVENT
UID:evt-7-ar@pluriel-congres.org
DTSTAMP:20260208T180000Z
DTSTART;TZID=Europe/Madrid:20260211T140000
DTEND;TZID=Europe/Madrid:20260211T153000
SUMMARY:غداء
LOCATION:
LAST-MODIFIED:20260208T180000Z
SEQUENCE:3
STATUS:CONFIRMED
END:VEVENT
BEGIN:VEVENT
UID:evt-8-ar@pluriel-congres.org
DTSTAMP:20260208T180000Z
DTSTART;TZID=Europe/Madrid:20260211T153000
DTEND;TZID=Europe/Madrid:20260211T170000
SUMMARY:الجلسة 3
LOCATION:قاعة 1
LAST-MODIFIED:20260208T180000Z
SEQUENCE:3
STATUS:CONFIRMED
END:VEVENT
BEGIN:VEVENT
UID:evt-9-ar@pluriel-congres.org
DTSTAMP:20260208T180000Z
DTSTART;TZID=Europe/Madrid:20260211T153000
DTEND;TZID=Europe/Madrid:20260211T170000
SUMMARY:الجلسة 3
LOCATION:قاعة 2
LAST-MODIFIED:20260208T180000Z
SEQUENCE:3
STATUS:CONFIRMED
END:VEVENT
BEGIN:VEVENT
UID:evt-10-ar@pluriel-congres.org
DTSTAMP:20260208T180000Z
DTSTART;TZID=Europe/Madrid:20260211T200000
DTEND;TZID=Europe/Madrid:20260211T213000
SUMMARY:روح قرطبة - عرض صوت وضوء (المجموعة 1)
LOCATION:المسجد-الكاتدرائية – Calle Torrijos\, قرطبة
LAST-MODIFIED:20260208T180000Z
SEQUENCE:3
STATUS:CONFIRMED
END:VEVENT
BEGIN:VEVENT
UID:evt-11-ar@pluriel-congres.org
DTSTAMP:20260208T180000Z
DTSTART;TZID=Europe/Madrid:20260212T090000
DTEND;TZID=Europe/Madrid:20260212T093000
SUMMARY:الاستقبال
LOCATION:أبرشية قرطبة – Calle Torrijos\, 12
LAST-MODIFIED:20260208T180000Z
SEQUENCE:3
STATUS:CONFIRMED
END:VEVENT
BEGIN:VEVENT
UID:evt-12-ar@pluriel-congres.org
DTSTAMP:20260208T180000Z
DTSTART;TZID=Europe/Madrid:20260212T093000
DTEND;TZID=Europe/Madrid:20260212T103000
SUMMARY:عرض المحور 2
LOCATION:
LAST-MODIFIED:20260208T180000Z
SEQUENCE:3
STATUS:CONFIRMED
END:VEVENT
BEGIN:VEVENT
UID:evt-13-ar@pluriel-congres.org
DTSTAMP:20260208T180000Z
DTSTART;TZID=Europe/Madrid:20260212T103000
DTEND;TZID=Europe/Madrid:20260212T120000
SUMMARY:الجلسة 1
LOCATION:
LAST-MODIFIED:20260208T180000Z
SEQUENCE:3
STATUS:CONFIRMED
END:VEVENT
BEGIN:VEVENT
UID:evt-14-ar@pluriel-congres.org
DTSTAMP:20260208T180000Z
DTSTART;TZID=Europe/Madrid:20260212T120000
DTEND;TZID=Europe/Madrid:20260212T123000
SUMMARY:استراحة
LOCATION:
LAST-MODIFIED:20260208T180000Z
SEQUENCE:3
STATUS:CONFIRMED
END:VEVENT
BEGIN:VEVENT
UID:evt-15-ar@pluriel-congres.org
DTSTAMP:20260208T180000Z
DTSTART;TZID=Europe/Madrid:20260212T123000
DTEND;TZID=Europe/Madrid:20260212T140000
SUMMARY:الجلسة 2
LOCATION:قاعة 1
LAST-MODIFIED:20260208T180000Z
SEQUENCE:3
STATUS:CONFIRMED
END:VEVENT
BEGIN:VEVENT
UID:evt-16-ar@pluriel-congres.org
DTSTAMP:20260208T180000Z
DTSTART;TZID=Europe/Madrid:20260212T123000
DTEND;TZID=Europe/Madrid:20260212T140000
SUMMARY:الجلسة 2
LOCATION:قاعة 2
LAST-MODIFIED:20260208T180000Z
SEQUENCE:3
STATUS:CONFIRMED
END:VEVENT
BEGIN:VEVENT
UID:evt-17-ar@pluriel-congres.org
DTSTAMP:20260208T180000Z
DTSTART;TZID=Europe/Madrid:20260212T140000
DTEND;TZID=Europe/Madrid:20260212T153000
SUMMARY:غداء
LOCATION:
LAST-MODIFIED:20260208T180000Z
SEQUENCE:3
STATUS:CONFIRMED
END:VEVENT
BEGIN:VEVENT
UID:evt-18-ar@pluriel-congres.org
DTSTAMP:20260208T180000Z
DTSTART;TZID=Europe/Madrid:20260212T153000
DTEND;TZID=Europe/Madrid:20260212T170000
SUMMARY:الجلسة 3
LOCATION:قاعة 1
LAST-MODIFIED:20260208T180000Z
SEQUENCE:3
STATUS:CONFIRMED
END:VEVENT
BEGIN:VEVENT
UID:evt-19-ar@pluriel-congres.org
DTSTAMP:20260208T180000Z
DTSTART;TZID=Europe/Madrid:20260212T153000
DTEND;TZID=Europe/Madrid:20260212T170000
SUMMARY:الجلسة 3
LOCATION:قاعة 2
LAST-MODIFIED:20260208T180000Z
SEQUENCE:3
STATUS:CANCELLED
END:VEVENT
BEGIN:VEVENT
UID:evt-20-ar@pluriel-congres.org
DTSTAMP:20260208T180000Z
DTSTART;TZID=Europe/Madrid:20260212T180000
DTEND;TZID=Europe/Madrid:20260212T193000
SUMMARY:حفل موسيقى عربية أندلسية
LOCATION:كاسا عرب – C/ Samuel de los Santos y Gener\, 9\, قرطبة
LAST-MODIFIED:20260208T180000Z
SEQUENCE:3
STATUS:CONFIRMED
END:VEVENT
BEGIN:VEVENT
UID:evt-21-ar@pluriel-congres.org
DTSTAMP:20260208T180000Z
DTSTART;TZID=Europe/Madrid:20260212T200000
DTEND;TZID=Europe/Madrid:20260212T213000
SUMMARY:روح قرطبة - عرض صوت وضوء (المجموعة 2)
LOCATION:المسجد-الكاتدرائية – Calle Torrijos\, قرطبة
LAST-MODIFIED:20260208T180000Z
SEQUENCE:3
STATUS:CONFIRMED
END:VEVENT
BEGIN:VEVENT
UID:evt-22-ar@pluriel-congres.org
DTSTAMP:20260208T180000Z
DTSTART;TZID=Europe/Madrid:20260213T090000
DTEND;TZID=Europe/Madrid:20260213T093000
SUMMARY:الاستقبال
LOCATION:جامعة لويولا الأندلس – C. Escritor Castilla Aguayo\, 4
LAST-MODIFIED:20260208T180000Z
SEQUENCE:3
STATUS:CONFIRMED
END:VEVENT
BEGIN:VEVENT
UID:evt-23-ar@pluriel-congres.org
DTSTAMP:20260208T180000Z
DTSTART;TZID=Europe/Madrid:20260213T093000
DTEND;TZID=Europe/Madrid:20260213T110000
SUMMARY:الجلسة 1
LOCATION:
LAST-MODIFIED:20260208T180000Z
SEQUENCE:3
STATUS:CONFIRMED
END:VEVENT
BEGIN:VEVENT
UID:evt-24-ar@pluriel-congres.org
DTSTAMP:20260208T180000Z
DTSTART;TZID=Europe/Madrid:20260213T110000
DTEND;TZID=Europe/Madrid:20260213T113000
SUMMARY:استراحة
LOCATION:
LAST-MODIFIED:20260208T180000Z
SEQUENCE:3
STATUS:CONFIRMED
END:VEVENT
BEGIN:VEVENT
UID:evt-25-ar@pluriel-congres.org
DTSTAMP:20260208T180000Z
DTSTART;TZID=Europe/Madrid:20260213T113000
DTEND;TZID=Europe/Madrid:20260213T130000
SUMMARY:الجلسة 2
LOCATION:قاعة 1
LAST-MODIFIED:20260208T180000Z
SEQUENCE:3
STATUS:CONFIRMED
END:VEVENT
BEGIN:VEVENT
UID:evt-26-ar@pluriel-congres.org
DTSTAMP:20260208T180000Z
DTSTART;TZID=Europe/Madrid:20260213T113000
DTEND;TZID=Europe/Madrid:20260213T130000
SUMMARY:الجلسة 2
LOCATION:قاعة 2
LAST-MODIFIED:20260208T180000Z
SEQUENCE:3
STATUS:CONFIRMED
END:VEVENT
BEGIN:VEVENT
UID:evt-27-ar@pluriel-congres.org
DTSTAMP:20260208T180000Z
DTSTART;TZID=Europe/Madrid:20260213T130000
DTEND;TZID=Europe/Madrid:20260213T150000
SUMMARY:غداء
LOCATION:
LAST-MODIFIED:20260208T180000Z
SEQUENCE:3
STATUS:CONFIRMED
END:VEVENT
BEGIN:VEVENT
UID:evt-28-ar@pluriel-congres.org
DTSTAMP:20260208T180000Z
DTSTART;TZID=Europe/Madrid:20260213T150000
DTEND;TZID=Europe/Madrid:20260213T163000
SUMMARY:الجلسة 3
LOCATION:قاعة 1
LAST-MODIFIED:20260208T180000Z
SEQUENCE:3
STATUS:CONFIRMED
END:VEVENT
BEGIN:VEVENT
UID:evt-29-ar@pluriel-congres.org
DTSTAMP:20260208T180000Z
DTSTART;TZID=Europe/Madrid:20260213T150000
DTEND;TZID=Europe/Madrid:20260213T163000
SUMMARY:الجلسة 3
LOCATION:قاعة 2
LAST-MODIFIED:20260208T180000Z
SEQUENCE:3
STATUS:CANCELLED
END:VEVENT
BEGIN:VEVENT
UID:evt-30-ar@pluriel-congres.org
DTSTAMP:20260208T180000Z
DTSTART;TZID=Europe/Madrid:20260213T163000
DTEND;TZID=Europe/Madrid:20260213T170000
SUMMARY:تقديم ملخصات الجلسات
LOCATION:
LAST-MODIFIED:20260208T180000Z
SEQUENCE:3
STATUS:CONFIRMED
END:VEVENT
BEGIN:VEVENT
UID:evt-31-ar@pluriel-congres.org
DTSTAMP:20260208T180000Z
DTSTART;TZID=Europe/Madrid:20260213T170000
DTEND;TZID=Europe/Madrid:20260213T173000
SUMMARY:اختتام المؤتمر
LOCATION:
LAST-MODIFIED:20260208T180000Z
SEQUENCE:3
STATUS:CONFIRMED
END:VEVENT
BEGIN:VEVENT
UID:evt-32-ar@pluriel-congres.org
DTSTAMP:20260208T180000Z
DTSTART;TZID=Europe/Madrid:20260213T201500
DTEND;TZID=Europe/Madrid:20260213T223000
SUMMARY:عشاء حر | اجتماع اللجنة العلمية
LOCATION:قرطبة
LAST-MODIFIED:20260208T180000Z
SEQUENCE:3
STATUS:CANCELLED
END:VEVENT
BEGIN:VEVENT
UID:evt-33-ar@pluriel-congres.org
DTSTAMP:20260208T180000Z
DTSTART;TZID=Europe/Madrid:20260214T081500
DTEND;TZID=Europe/Madrid:20260214T200000
SUMMARY:رحلة غرناطة - الحمراء
LOCATION:غرناطة، إسبانيا
LAST-MODIFIED:20260208T180000Z
SEQUENCE:3
STATUS:CONFIRMED
END:VEVENT
END:VCALENDAR
